BEGIN:VCALENDAR
VERSION:2.0
PRODID:icalendar-ruby
CALSCALE:GREGORIAN
METHOD:PUBLISH
BEGIN:VEVENT
DTSTAMP:20260420T012008Z
UID:6-458438@northeast4817.com
DTSTART:20261008T020000Z
DTEND:20261008T030000Z
CLASS:PUBLIC
CREATED:20260419T172727
DESCRIPTION:
LAST-MODIFIED:20260419T172727
LOCATION:4817 N Martin Luther King Avenue
SUMMARY:Wednesday Bible Class
URL;VALUE=URI:https://northeast4817.com/events/wednesday-bible-class/2026-1
 0-07
END:VEVENT
END:VCALENDAR
