BEGIN:VCALENDAR
VERSION:2.0
PRODID:icalendar-ruby
CALSCALE:GREGORIAN
METHOD:PUBLISH
BEGIN:VEVENT
DTSTAMP:20260419T223759Z
UID:6-458097@northeast4817.com
DTSTART:20260924T020000Z
DTEND:20260924T030000Z
CLASS:PUBLIC
CREATED:20260419T134522
DESCRIPTION:
LAST-MODIFIED:20260419T134522
LOCATION:4817 N Martin Luther King Avenue
SUMMARY:Wednesday Bible Class
URL;VALUE=URI:https://northeast4817.com/events/wednesday-bible-class/2026-0
 9-23
END:VEVENT
END:VCALENDAR
