BEGIN:VCALENDAR
VERSION:2.0
PRODID:icalendar-ruby
CALSCALE:GREGORIAN
METHOD:PUBLISH
BEGIN:VEVENT
DTSTAMP:20260422T084437Z
UID:5-463106@northeast4817.com
DTSTART:20261011T170000Z
DTEND:20261011T180000Z
CLASS:PUBLIC
CREATED:20260421T182914
DESCRIPTION:Sunday Worship
LAST-MODIFIED:20260421T182914
LOCATION:4817 Martin Luther King Avenue 
SUMMARY:Sunday Worship
URL;VALUE=URI:https://northeast4817.com/events/sunday-worship/2026-10-11
END:VEVENT
END:VCALENDAR
