BEGIN:VCALENDAR
VERSION:2.0
PRODID:icalendar-ruby
CALSCALE:GREGORIAN
METHOD:PUBLISH
BEGIN:VEVENT
DTSTAMP:20260420T023754Z
UID:5-458356@northeast4817.com
DTSTART:20260913T170000Z
DTEND:20260913T180000Z
CLASS:PUBLIC
CREATED:20260419T172726
DESCRIPTION:Sunday Worship
LAST-MODIFIED:20260419T172726
LOCATION:4817 Martin Luther King Avenue 
SUMMARY:Sunday Worship
URL;VALUE=URI:https://northeast4817.com/events/sunday-worship/2026-09-13
END:VEVENT
END:VCALENDAR
