BEGIN:VCALENDAR
VERSION:2.0
PRODID:icalendar-ruby
CALSCALE:GREGORIAN
METHOD:PUBLISH
BEGIN:VEVENT
DTSTAMP:20260419T181815Z
UID:5-457676@northeast4817.com
DTSTART:20260823T170000Z
DTEND:20260823T180000Z
CLASS:PUBLIC
CREATED:20260419T100306
DESCRIPTION:Sunday Worship
LAST-MODIFIED:20260419T100306
LOCATION:4817 Martin Luther King Avenue 
SUMMARY:Sunday Worship
URL;VALUE=URI:https://northeast4817.com/events/sunday-worship/2026-08-23
END:VEVENT
END:VCALENDAR
