BEGIN:VCALENDAR
VERSION:2.0
PRODID:icalendar-ruby
CALSCALE:GREGORIAN
METHOD:PUBLISH
BEGIN:VEVENT
DTSTAMP:20260419T132948Z
UID:5-457335@northeast4817.com
DTSTART:20260802T170000Z
DTEND:20260802T180000Z
CLASS:PUBLIC
CREATED:20260419T062107
DESCRIPTION:Sunday Worship
LAST-MODIFIED:20260419T062107
LOCATION:4817 Martin Luther King Avenue 
SUMMARY:Sunday Worship
URL;VALUE=URI:https://northeast4817.com/events/sunday-worship/2026-08-02
END:VEVENT
END:VCALENDAR
